BEGIN:VCALENDAR
VERSION:2.0
PRODID:-//Cocovida Coquito - ECPv6.15.20//NONSGML v1.0//EN
CALSCALE:GREGORIAN
METHOD:PUBLISH
X-ORIGINAL-URL:https://cocovidacoquito.com
X-WR-CALDESC:Events for Cocovida Coquito
REFRESH-INTERVAL;VALUE=DURATION:PT1H
X-Robots-Tag:noindex
X-PUBLISHED-TTL:PT1H
BEGIN:VTIMEZONE
TZID:America/New_York
BEGIN:DAYLIGHT
TZOFFSETFROM:-0500
TZOFFSETTO:-0400
TZNAME:EDT
DTSTART:20230312T070000
END:DAYLIGHT
BEGIN:STANDARD
TZOFFSETFROM:-0400
TZOFFSETTO:-0500
TZNAME:EST
DTSTART:20231105T060000
END:STANDARD
BEGIN:DAYLIGHT
TZOFFSETFROM:-0500
TZOFFSETTO:-0400
TZNAME:EDT
DTSTART:20240310T070000
END:DAYLIGHT
BEGIN:STANDARD
TZOFFSETFROM:-0400
TZOFFSETTO:-0500
TZNAME:EST
DTSTART:20241103T060000
END:STANDARD
BEGIN:DAYLIGHT
TZOFFSETFROM:-0500
TZOFFSETTO:-0400
TZNAME:EDT
DTSTART:20250309T070000
END:DAYLIGHT
BEGIN:STANDARD
TZOFFSETFROM:-0400
TZOFFSETTO:-0500
TZNAME:EST
DTSTART:20251102T060000
END:STANDARD
END:VTIMEZONE
BEGIN:VEVENT
DTSTART;TZID=America/New_York:20241216T080000
DTEND;TZID=America/New_York:20241216T170000
DTSTAMP:20260420T003011
CREATED:20250220T001150Z
LAST-MODIFIED:20250312T124215Z
UID:10000003-1734336000-1734368400@cocovidacoquito.com
SUMMARY:Entrepreneurs' Ugly Sweater party
DESCRIPTION:The “Office Party” for entrepreneurs and small businesses to celebrate us! Come network w/ food & drinks\, ugly sweaters\, and gift exchange
URL:https://cocovidacoquito.com/event/entrepreneurs-ugly-sweater-party/
ATTACH;FMTTYPE=image/jpeg:https://cocovidacoquito.com/wp-content/uploads/2025/02/GettyImages-1196896548.jpg
END:VEVENT
BEGIN:VEVENT
DTSTART;TZID=America/New_York:20240727T080000
DTEND;TZID=America/New_York:20240727T170000
DTSTAMP:20260420T003011
CREATED:20250220T001148Z
LAST-MODIFIED:20250312T124344Z
UID:10000002-1722067200-1722099600@cocovidacoquito.com
SUMMARY:Event Title:8th Annual Family and Friends BBQ Event
DESCRIPTION:Come join our Friends and Family BBQ with Music\, Food\, Field Games\, and Water War with water pistols & Water Balloons! Come and have fun!
URL:https://cocovidacoquito.com/event/event-title8th-annual-family-and-friends-bbq-event/
ATTACH;FMTTYPE=image/jpeg:https://cocovidacoquito.com/wp-content/uploads/2025/02/GettyImages-1148957247.jpg
END:VEVENT
END:VCALENDAR